
BEGIN:VCALENDAR
VERSION:2.0
PRODID:-//Navy League - ECPv6.5.0//NONSGML v1.0//EN
CALSCALE:GREGORIAN
METHOD:PUBLISH
X-WR-CALNAME:Navy League
X-ORIGINAL-URL:https://nlsudbury.ca
X-WR-CALDESC:Events for Navy League
REFRESH-INTERVAL;VALUE=DURATION:PT1H
X-Robots-Tag:noindex
X-PUBLISHED-TTL:PT1H
BEGIN:VTIMEZONE
TZID:UTC
BEGIN:STANDARD
TZOFFSETFROM:+0000
TZOFFSETTO:+0000
TZNAME:UTC
DTSTART:20240101T000000
END:STANDARD
END:VTIMEZONE
BEGIN:VEVENT
DTSTART;TZID=UTC:20240713T153000
DTEND;TZID=UTC:20240715T153000
DTSTAMP:20260423T111035
CREATED:20200909T080219Z
LAST-MODIFIED:20230613T124228Z
UID:2052-1720884600-1721057400@nlsudbury.ca
SUMMARY:UK Will Have School Lesson
DESCRIPTION:Why do you think that she is a witch? He hasn’t got stuff all over him. Well\, I didn’t vote for you. A newt? Look\, my liege! I don’t want to talk to you no more\, you empty-headed animal food trough water! I fart in your general direction! Your mother was a hamster and your father smelt of elderberries! Now leave before I am forced to taunt you a second time!
URL:https://nlsudbury.ca/event/uk-will-have-school-lesson/
LOCATION:Krispy Kreme\, St. Louis\, 63129
CATEGORIES:Children,Vaccine
ATTACH;FMTTYPE=image/jpeg:https://nlsudbury.ca/wp-content/uploads/2020/09/vcn-post-4-min.jpg
END:VEVENT
END:VCALENDAR